Package: STROMA4 Version: 1.28.0 Command: rm -rf STROMA4.buildbin-libdir && mkdir STROMA4.buildbin-libdir && E:\biocbuild\bbs-3.19-bioc\R\bin\R.exe CMD INSTALL --build --library=STROMA4.buildbin-libdir STROMA4_1.28.0.tar.gz StartedAt: 2024-10-17 08:44:27 -0400 (Thu, 17 Oct 2024) EndedAt: 2024-10-17 08:44:35 -0400 (Thu, 17 Oct 2024) EllapsedTime: 7.6 seconds RetCode: 0 Status: OK PackageFile: STROMA4_1.28.0.zip PackageFileSize: 146.1 KiB