Package: SPONGE Version: 1.26.1 Command: E:\biocbuild\bbs-3.19-bioc\R\bin\R.exe CMD INSTALL SPONGE StartedAt: 2024-10-16 17:22:44 -0400 (Wed, 16 Oct 2024) EndedAt: 2024-10-16 17:24:15 -0400 (Wed, 16 Oct 2024) EllapsedTime: 90.3 seconds RetCode: 0 Status: OK