Package: SPONGE Version: 1.26.1 Command: chmod a+r SPONGE -R && E:\biocbuild\bbs-3.19-bioc\R\bin\R.exe CMD build --keep-empty-dirs --no-resave-data SPONGE StartedAt: 2024-10-16 22:09:35 -0400 (Wed, 16 Oct 2024) EndedAt: 2024-10-16 22:13:14 -0400 (Wed, 16 Oct 2024) EllapsedTime: 219.4 seconds RetCode: 0 Status: OK PackageFile: SPONGE_1.26.1.tar.gz PackageFileSize: 8.664 MiB