Package: SPONGE Version: 1.26.0 Command: F:\biocbuild\bbs-3.19-bioc\R\bin\R.exe CMD check --no-multiarch --install=check:SPONGE.install-out.txt --library=F:\biocbuild\bbs-3.19-bioc\R\library --no-vignettes --timings SPONGE_1.26.0.tar.gz StartedAt: 2024-06-27 06:34:07 -0400 (Thu, 27 Jun 2024) EndedAt: 2024-06-27 06:41:09 -0400 (Thu, 27 Jun 2024) EllapsedTime: 422.0 seconds RetCode: 0 Status: WARNINGS CheckDir: SPONGE.Rcheck Warnings: 5