Package: SPONGE Version: 1.26.0 Command: rm -rf SPONGE.buildbin-libdir && mkdir SPONGE.buildbin-libdir && F:\biocbuild\bbs-3.19-bioc\R\bin\R.exe CMD INSTALL --build --library=SPONGE.buildbin-libdir SPONGE_1.26.0.tar.gz StartedAt: 2024-06-27 08:59:27 -0400 (Thu, 27 Jun 2024) EndedAt: 2024-06-27 09:01:07 -0400 (Thu, 27 Jun 2024) EllapsedTime: 101.0 seconds RetCode: 0 Status: OK PackageFile: SPONGE_1.26.0.zip PackageFileSize: 8.425 MiB