Package: SPONGE Version: 1.26.1 Command: /home/biocbuild/bbs-3.19-bioc/R/bin/R CMD check --install=check:SPONGE.install-out.txt --library=/home/biocbuild/bbs-3.19-bioc/R/site-library --timings SPONGE_1.26.1.tar.gz StartedAt: 2024-10-17 05:30:57 -0400 (Thu, 17 Oct 2024) EndedAt: 2024-10-17 05:38:03 -0400 (Thu, 17 Oct 2024) EllapsedTime: 425.9 seconds RetCode: 1 Status: ERROR CheckDir: SPONGE.Rcheck Warnings: NA