Package: SPONGE Version: 1.26.1 Command: /home/biocbuild/bbs-3.19-bioc/R/bin/R CMD build --keep-empty-dirs --no-resave-data SPONGE StartedAt: 2024-10-16 21:00:23 -0400 (Wed, 16 Oct 2024) EndedAt: 2024-10-16 21:03:24 -0400 (Wed, 16 Oct 2024) EllapsedTime: 181.4 seconds RetCode: 0 Status: OK PackageFile: SPONGE_1.26.1.tar.gz PackageFileSize: 8.8 MiB