Package: SPONGE Version: 1.26.1 Command: rm -rf SPONGE.buildbin-libdir && mkdir SPONGE.buildbin-libdir && /Users/biocbuild/BBS/utils/build-universal.sh SPONGE_1.26.1.tar.gz /Library/Frameworks/R.framework/Resources/bin/R SPONGE.buildbin-libdir StartedAt: 2024-10-17 17:17:06 -0400 (Thu, 17 Oct 2024) EndedAt: 2024-10-17 17:19:38 -0400 (Thu, 17 Oct 2024) EllapsedTime: 152.1 seconds RetCode: 0 Status: OK PackageFile: SPONGE_1.26.1.tgz PackageFileSize: 8.728 MiB