Package: SPONGE Version: 1.26.0 Command: /Library/Frameworks/R.framework/Resources/bin/R CMD check --install=check:SPONGE.install-out.txt --library=/Library/Frameworks/R.framework/Resources/library --no-vignettes --timings SPONGE_1.26.0.tar.gz StartedAt: 2024-06-09 23:19:05 -0400 (Sun, 09 Jun 2024) EndedAt: 2024-06-09 23:25:29 -0400 (Sun, 09 Jun 2024) EllapsedTime: 383.6 seconds RetCode: 0 Status: WARNINGS CheckDir: SPONGE.Rcheck Warnings: 5