Package: SPIAT Version: 1.6.1 Command: chmod a+r SPIAT -R && F:\biocbuild\bbs-3.19-bioc\R\bin\R.exe CMD build --keep-empty-dirs --no-resave-data SPIAT StartedAt: 2024-06-26 22:08:47 -0400 (Wed, 26 Jun 2024) EndedAt: 2024-06-26 22:13:27 -0400 (Wed, 26 Jun 2024) EllapsedTime: 280.0 seconds RetCode: 0 Status: OK PackageFile: SPIAT_1.6.1.tar.gz PackageFileSize: 4.475 MiB