Package: SOMNiBUS Version: 1.12.0 Command: /home/biocbuild/bbs-3.19-bioc/R/bin/R CMD build --keep-empty-dirs --no-resave-data SOMNiBUS StartedAt: 2024-10-16 20:55:40 -0400 (Wed, 16 Oct 2024) EndedAt: 2024-10-16 20:59:52 -0400 (Wed, 16 Oct 2024) EllapsedTime: 252.5 seconds RetCode: 0 Status: OK PackageFile: SOMNiBUS_1.12.0.tar.gz PackageFileSize: 1.021 MiB