Package: SNPRelate Version: 1.38.1 Command: chmod a+r SNPRelate -R && E:\biocbuild\bbs-3.19-bioc\R\bin\R.exe CMD build --keep-empty-dirs --no-resave-data SNPRelate StartedAt: 2024-10-16 22:03:36 -0400 (Wed, 16 Oct 2024) EndedAt: 2024-10-16 22:05:36 -0400 (Wed, 16 Oct 2024) EllapsedTime: 120.6 seconds RetCode: 0 Status: OK PackageFile: SNPRelate_1.38.1.tar.gz PackageFileSize: 1.914 MiB