Package: SNPRelate Version: 1.38.1 Command: rm -rf SNPRelate.buildbin-libdir && mkdir SNPRelate.buildbin-libdir && E:\biocbuild\bbs-3.19-bioc\R\bin\R.exe CMD INSTALL --build --library=SNPRelate.buildbin-libdir SNPRelate_1.38.1.tar.gz StartedAt: 2024-10-17 08:40:54 -0400 (Thu, 17 Oct 2024) EndedAt: 2024-10-17 08:43:30 -0400 (Thu, 17 Oct 2024) EllapsedTime: 156.8 seconds RetCode: 0 Status: OK PackageFile: SNPRelate_1.38.1.zip PackageFileSize: 2.666 MiB