Package: SNPRelate Version: 1.38.1 Command: /home/biocbuild/bbs-3.19-bioc/R/bin/R CMD build --keep-empty-dirs --no-resave-data SNPRelate StartedAt: 2024-10-16 20:55:20 -0400 (Wed, 16 Oct 2024) EndedAt: 2024-10-16 20:56:07 -0400 (Wed, 16 Oct 2024) EllapsedTime: 47.1 seconds RetCode: 0 Status: OK PackageFile: SNPRelate_1.38.1.tar.gz PackageFileSize: 3.008 MiB