Package: SNPRelate Version: 1.38.1 Command: /Library/Frameworks/R.framework/Resources/bin/R CMD build --keep-empty-dirs --no-resave-data SNPRelate StartedAt: 2024-10-16 23:31:49 -0400 (Wed, 16 Oct 2024) EndedAt: 2024-10-16 23:34:11 -0400 (Wed, 16 Oct 2024) EllapsedTime: 142.0 seconds RetCode: 0 Status: OK PackageFile: SNPRelate_1.38.1.tar.gz PackageFileSize: 3.348 MiB