Package: SNPRelate Version: 1.38.1 Command: /Library/Frameworks/R.framework/Resources/bin/R CMD check --install=check:SNPRelate.install-out.txt --library=/Library/Frameworks/R.framework/Resources/library --no-vignettes --timings SNPRelate_1.38.1.tar.gz StartedAt: 2024-10-18 12:59:55 -0400 (Fri, 18 Oct 2024) EndedAt: 2024-10-18 13:02:37 -0400 (Fri, 18 Oct 2024) EllapsedTime: 162.3 seconds RetCode: 0 Status: OK CheckDir: SNPRelate.Rcheck Warnings: 0