Package: SIMLR Version: 1.30.0 Command: rm -rf SIMLR.buildbin-libdir && mkdir SIMLR.buildbin-libdir && /Users/biocbuild/BBS/utils/build-universal.sh SIMLR_1.30.0.tar.gz /Library/Frameworks/R.framework/Resources/bin/R SIMLR.buildbin-libdir StartedAt: 2024-10-15 20:19:59 -0400 (Tue, 15 Oct 2024) EndedAt: 2024-10-15 20:20:27 -0400 (Tue, 15 Oct 2024) EllapsedTime: 28.3 seconds RetCode: 0 Status: OK PackageFile: SIMLR_1.30.0.tgz PackageFileSize: 4.222 MiB