Package: SCFA Version: 1.14.0 Command: /Library/Frameworks/R.framework/Resources/bin/R CMD build --keep-empty-dirs --no-resave-data SCFA StartedAt: 2024-06-09 18:03:45 -0400 (Sun, 09 Jun 2024) EndedAt: 2024-06-09 18:06:29 -0400 (Sun, 09 Jun 2024) EllapsedTime: 164.1 seconds RetCode: 0 Status: OK PackageFile: SCFA_1.14.0.tar.gz PackageFileSize: 1.24 MiB