Package: SBGNview Version: 1.18.0 Command: chmod a+r SBGNview -R && F:\biocbuild\bbs-3.19-bioc\R\bin\R.exe CMD build --keep-empty-dirs --no-resave-data SBGNview StartedAt: 2024-06-26 21:37:49 -0400 (Wed, 26 Jun 2024) EndedAt: 2024-06-26 21:45:42 -0400 (Wed, 26 Jun 2024) EllapsedTime: 472.4 seconds RetCode: 0 Status: OK PackageFile: SBGNview_1.18.0.tar.gz PackageFileSize: 1.682 MiB