Package: SARC Version: 1.2.0 Command: chmod a+r SARC -R && E:\biocbuild\bbs-3.19-bioc\R\bin\R.exe CMD build --keep-empty-dirs --no-resave-data SARC StartedAt: 2024-10-16 21:41:24 -0400 (Wed, 16 Oct 2024) EndedAt: 2024-10-16 21:43:56 -0400 (Wed, 16 Oct 2024) EllapsedTime: 152.0 seconds RetCode: 0 Status: OK PackageFile: SARC_1.2.0.tar.gz PackageFileSize: 3.426 MiB