Package: SARC Version: 1.2.0 Command: rm -rf SARC.buildbin-libdir && mkdir SARC.buildbin-libdir && E:\biocbuild\bbs-3.19-bioc\R\bin\R.exe CMD INSTALL --build --library=SARC.buildbin-libdir SARC_1.2.0.tar.gz StartedAt: 2024-10-17 08:33:41 -0400 (Thu, 17 Oct 2024) EndedAt: 2024-10-17 08:34:39 -0400 (Thu, 17 Oct 2024) EllapsedTime: 57.6 seconds RetCode: 0 Status: OK PackageFile: SARC_1.2.0.zip PackageFileSize: 2.028 MiB