Package: SARC Version: 1.2.0 Command: F:\biocbuild\bbs-3.19-bioc\R\bin\R.exe CMD INSTALL SARC StartedAt: 2024-06-26 16:36:37 -0400 (Wed, 26 Jun 2024) EndedAt: 2024-06-26 16:37:31 -0400 (Wed, 26 Jun 2024) EllapsedTime: 53.7 seconds RetCode: 0 Status: OK