Package: SARC Version: 1.2.0 Command: /Library/Frameworks/R.framework/Resources/bin/R CMD check --install=check:SARC.install-out.txt --library=/Library/Frameworks/R.framework/Resources/library --no-vignettes --timings SARC_1.2.0.tar.gz StartedAt: 2024-10-18 10:44:54 -0400 (Fri, 18 Oct 2024) EndedAt: 2024-10-18 10:53:36 -0400 (Fri, 18 Oct 2024) EllapsedTime: 521.5 seconds RetCode: 0 Status: OK CheckDir: SARC.Rcheck Warnings: 0