Package: SARC Version: 1.2.0 Command: rm -rf SARC.buildbin-libdir && mkdir SARC.buildbin-libdir && /Users/biocbuild/BBS/utils/build-universal.sh SARC_1.2.0.tar.gz /Library/Frameworks/R.framework/Resources/bin/R SARC.buildbin-libdir StartedAt: 2024-10-15 20:04:38 -0400 (Tue, 15 Oct 2024) EndedAt: 2024-10-15 20:05:39 -0400 (Tue, 15 Oct 2024) EllapsedTime: 60.3 seconds RetCode: 0 Status: OK PackageFile: SARC_1.2.0.tgz PackageFileSize: 2.104 MiB