Package: SANTA Version: 2.39.2 Command: /home/biocbuild/R/R-4.4-devel-2024.03.20/bin/R CMD check --install=check:SANTA.install-out.txt --library=/home/biocbuild/R/R-4.4-devel-2024.03.20/site-library --no-vignettes --timings SANTA_2.39.2.tar.gz StartedAt: 2024-04-06 12:05:33 -0000 (Sat, 06 Apr 2024) EndedAt: 2024-04-06 12:06:57 -0000 (Sat, 06 Apr 2024) EllapsedTime: 84.2 seconds RetCode: 0 Status: OK CheckDir: SANTA.Rcheck Warnings: 0