Package: Risa Version: 1.46.0 Command: rm -rf Risa.buildbin-libdir && mkdir Risa.buildbin-libdir && /Users/biocbuild/BBS/utils/build-universal.sh Risa_1.46.0.tar.gz /Library/Frameworks/R.framework/Resources/bin/R Risa.buildbin-libdir StartedAt: 2024-06-10 00:35:43 -0400 (Mon, 10 Jun 2024) EndedAt: 2024-06-10 00:36:48 -0400 (Mon, 10 Jun 2024) EllapsedTime: 65.2 seconds RetCode: 0 Status: OK PackageFile: Risa_1.46.0.tgz PackageFileSize: 2.734 MiB