Package: RiboDiPA Version: 1.12.0 Command: rm -rf RiboDiPA.buildbin-libdir && mkdir RiboDiPA.buildbin-libdir && /Users/biocbuild/BBS/utils/build-universal.sh RiboDiPA_1.12.0.tar.gz /Library/Frameworks/R.framework/Resources/bin/R RiboDiPA.buildbin-libdir StartedAt: 2024-10-17 16:59:55 -0400 (Thu, 17 Oct 2024) EndedAt: 2024-10-17 17:02:02 -0400 (Thu, 17 Oct 2024) EllapsedTime: 127.2 seconds RetCode: 0 Status: OK PackageFile: RiboDiPA_1.12.0.tgz PackageFileSize: 1.626 MiB