Package: RiboCrypt Version: 1.10.0 Command: E:\biocbuild\bbs-3.19-bioc\R\bin\R.exe CMD INSTALL RiboCrypt StartedAt: 2024-10-16 17:22:56 -0400 (Wed, 16 Oct 2024) EndedAt: 2024-10-16 17:24:15 -0400 (Wed, 16 Oct 2024) EllapsedTime: 79.5 seconds RetCode: 0 Status: OK