Package: Rhdf5lib Version: 1.26.0 Command: /home/biocbuild/R/R-beta-2024-04-15_r86425/bin/R CMD check --install=check:Rhdf5lib.install-out.txt --library=/home/biocbuild/R/R-beta-2024-04-15_r86425/site-library --no-vignettes --timings Rhdf5lib_1.26.0.tar.gz StartedAt: 2024-05-09 11:11:40 -0000 (Thu, 09 May 2024) EndedAt: 2024-05-09 11:11:59 -0000 (Thu, 09 May 2024) EllapsedTime: 19.1 seconds RetCode: 0 Status: WARNINGS CheckDir: Rhdf5lib.Rcheck Warnings: 1