Package: RgnTX Version: 1.6.0 Command: rm -rf RgnTX.buildbin-libdir && mkdir RgnTX.buildbin-libdir && /Users/biocbuild/BBS/utils/build-universal.sh RgnTX_1.6.0.tar.gz /Library/Frameworks/R.framework/Resources/bin/R RgnTX.buildbin-libdir StartedAt: 2024-10-17 16:59:13 -0400 (Thu, 17 Oct 2024) EndedAt: 2024-10-17 17:00:50 -0400 (Thu, 17 Oct 2024) EllapsedTime: 96.6 seconds RetCode: 0 Status: OK PackageFile: RgnTX_1.6.0.tgz PackageFileSize: 2.701 MiB