Package: Rbec Version: 1.12.0 Command: /home/biocbuild/bbs-3.19-bioc/R/bin/R CMD build --keep-empty-dirs --no-resave-data Rbec StartedAt: 2024-10-16 20:19:13 -0400 (Wed, 16 Oct 2024) EndedAt: 2024-10-16 20:20:30 -0400 (Wed, 16 Oct 2024) EllapsedTime: 77.2 seconds RetCode: 0 Status: OK PackageFile: Rbec_1.12.0.tar.gz PackageFileSize: 1.467 MiB