Package: Rbec Version: 1.12.0 Command: /home/biocbuild/R/R-beta-2024-04-15_r86425/bin/R CMD build --keep-empty-dirs --no-resave-data Rbec StartedAt: 2024-05-09 02:49:40 -0000 (Thu, 09 May 2024) EndedAt: 2024-05-09 02:49:56 -0000 (Thu, 09 May 2024) EllapsedTime: 16.0 seconds RetCode: 1 Status: ERROR PackageFile: None PackageFileSize: NA