Package: RaggedExperiment Version: 1.28.1 Command: rm -rf RaggedExperiment.buildbin-libdir && mkdir RaggedExperiment.buildbin-libdir && /Users/biocbuild/BBS/utils/build-universal.sh RaggedExperiment_1.28.1.tar.gz /Library/Frameworks/R.framework/Resources/bin/R RaggedExperiment.buildbin-libdir StartedAt: 2024-10-18 20:07:24 -0400 (Fri, 18 Oct 2024) EndedAt: 2024-10-18 20:07:58 -0400 (Fri, 18 Oct 2024) EllapsedTime: 34.3 seconds RetCode: 0 Status: OK PackageFile: RaggedExperiment_1.28.1.tgz PackageFileSize: 1.158 MiB