Package: RVS Version: 1.26.0 Command: /home/biocbuild/R/R-beta-2024-04-15_r86425/bin/R CMD check --install=check:RVS.install-out.txt --library=/home/biocbuild/R/R-beta-2024-04-15_r86425/site-library --no-vignettes --timings RVS_1.26.0.tar.gz StartedAt: 2024-05-09 11:29:31 -0000 (Thu, 09 May 2024) EndedAt: 2024-05-09 11:34:05 -0000 (Thu, 09 May 2024) EllapsedTime: 273.9 seconds RetCode: 0 Status: WARNINGS CheckDir: RVS.Rcheck Warnings: 1