Package: RUVnormalize Version: 1.38.0 Maintainer: Laurent Jacob MaintainerEmail: laurent.jacob at univ-lyon1.fr git_url: https://git.bioconductor.org/packages/RUVnormalize git_branch: RELEASE_3_19 git_last_commit: dc29956 git_last_commit_date: 2024-04-30 10:37:59 -0400 (Tue, 30 Apr 2024)