Package: RTNduals Version: 1.28.0 Command: /home/biocbuild/bbs-3.19-bioc/R/bin/R CMD build --keep-empty-dirs --no-resave-data RTNduals StartedAt: 2024-10-16 20:33:57 -0400 (Wed, 16 Oct 2024) EndedAt: 2024-10-16 20:35:13 -0400 (Wed, 16 Oct 2024) EllapsedTime: 76.3 seconds RetCode: 0 Status: OK PackageFile: RTNduals_1.28.0.tar.gz PackageFileSize: 584.5 KiB