Package: RTNduals Version: 1.28.0 Command: /Library/Frameworks/R.framework/Resources/bin/R CMD build --keep-empty-dirs --no-resave-data RTNduals StartedAt: 2024-10-17 08:05:59 -0400 (Thu, 17 Oct 2024) EndedAt: 2024-10-17 08:07:45 -0400 (Thu, 17 Oct 2024) EllapsedTime: 106.5 seconds RetCode: 0 Status: OK PackageFile: RTNduals_1.28.0.tar.gz PackageFileSize: 584.5 KiB