Package: RTN Version: 2.28.0 Command: /Library/Frameworks/R.framework/Resources/bin/R CMD build --keep-empty-dirs --no-resave-data RTN StartedAt: 2024-10-17 08:05:35 -0400 (Thu, 17 Oct 2024) EndedAt: 2024-10-17 08:08:57 -0400 (Thu, 17 Oct 2024) EllapsedTime: 202.0 seconds RetCode: 0 Status: OK PackageFile: RTN_2.28.0.tar.gz PackageFileSize: 10.26 MiB