Package: RProtoBufLib Version: 2.16.0 Command: rm -rf RProtoBufLib.buildbin-libdir && mkdir RProtoBufLib.buildbin-libdir && /Users/biocbuild/BBS/utils/build-universal.sh RProtoBufLib_2.16.0.tar.gz /Library/Frameworks/R.framework/Resources/bin/R RProtoBufLib.buildbin-libdir StartedAt: 2024-06-11 12:57:12 -0400 (Tue, 11 Jun 2024) EndedAt: 2024-06-11 13:07:48 -0400 (Tue, 11 Jun 2024) EllapsedTime: 635.4 seconds RetCode: 0 Status: OK PackageFile: RProtoBufLib_2.16.0.tgz PackageFileSize: 3.156 MiB