Package: ROCpAI Version: 1.16.0 Command: rm -rf ROCpAI.buildbin-libdir && mkdir ROCpAI.buildbin-libdir && F:\biocbuild\bbs-3.19-bioc\R\bin\R.exe CMD INSTALL --build --library=ROCpAI.buildbin-libdir ROCpAI_1.16.0.tar.gz StartedAt: 2024-06-27 08:49:22 -0400 (Thu, 27 Jun 2024) EndedAt: 2024-06-27 08:49:52 -0400 (Thu, 27 Jun 2024) EllapsedTime: 30.3 seconds RetCode: 0 Status: OK PackageFile: ROCpAI_1.16.0.zip PackageFileSize: 366.4 KiB