Package: RNAsense Version: 1.18.0 Command: /Library/Frameworks/R.framework/Resources/bin/R CMD check --install=check:RNAsense.install-out.txt --library=/Library/Frameworks/R.framework/Resources/library --no-vignettes --timings RNAsense_1.18.0.tar.gz StartedAt: 2024-10-17 12:03:39 -0400 (Thu, 17 Oct 2024) EndedAt: 2024-10-17 12:32:39 -0400 (Thu, 17 Oct 2024) EllapsedTime: 1740.4 seconds RetCode: 0 Status: WARNINGS CheckDir: RNAsense.Rcheck Warnings: 1