Package: RNAmodR.ML Version: 1.18.0 Command: rm -rf RNAmodR.ML.buildbin-libdir && mkdir RNAmodR.ML.buildbin-libdir && /Users/biocbuild/BBS/utils/build-universal.sh RNAmodR.ML_1.18.0.tar.gz /Library/Frameworks/R.framework/Resources/bin/R RNAmodR.ML.buildbin-libdir StartedAt: 2024-10-18 20:23:48 -0400 (Fri, 18 Oct 2024) EndedAt: 2024-10-18 20:25:13 -0400 (Fri, 18 Oct 2024) EllapsedTime: 85.2 seconds RetCode: 0 Status: OK PackageFile: RNAmodR.ML_1.18.0.tgz PackageFileSize: 1.989 MiB