Package: RMassBank Version: 3.14.0 Command: E:\biocbuild\bbs-3.19-bioc\R\bin\R.exe CMD check --no-multiarch --install=check:RMassBank.install-out.txt --library=E:\biocbuild\bbs-3.19-bioc\R\library --no-vignettes --timings RMassBank_3.14.0.tar.gz StartedAt: 2024-09-30 04:14:35 -0400 (Mon, 30 Sep 2024) EndedAt: 2024-09-30 04:21:28 -0400 (Mon, 30 Sep 2024) EllapsedTime: 413.3 seconds RetCode: 0 Status: OK CheckDir: RMassBank.Rcheck Warnings: 0