Package: RMassBank Version: 3.14.0 Command: rm -rf RMassBank.buildbin-libdir && mkdir RMassBank.buildbin-libdir && E:\biocbuild\bbs-3.19-bioc\R\bin\R.exe CMD INSTALL --build --library=RMassBank.buildbin-libdir RMassBank_3.14.0.tar.gz StartedAt: 2024-09-30 07:35:39 -0400 (Mon, 30 Sep 2024) EndedAt: 2024-09-30 07:37:09 -0400 (Mon, 30 Sep 2024) EllapsedTime: 90.1 seconds RetCode: 0 Status: OK PackageFile: RMassBank_3.14.0.zip PackageFileSize: 1.994 MiB