Package: RMassBank Version: 3.14.0 Command: chmod a+r RMassBank -R && F:\biocbuild\bbs-3.19-bioc\R\bin\R.exe CMD build --keep-empty-dirs --no-resave-data RMassBank StartedAt: 2024-06-26 21:26:01 -0400 (Wed, 26 Jun 2024) EndedAt: 2024-06-26 21:35:03 -0400 (Wed, 26 Jun 2024) EllapsedTime: 542.0 seconds RetCode: 0 Status: OK PackageFile: RMassBank_3.14.0.tar.gz PackageFileSize: 1.093 MiB