Package: RMassBank Version: 3.14.0 Command: /home/biocbuild/bbs-3.19-bioc/R/bin/R CMD check --install=check:RMassBank.install-out.txt --library=/home/biocbuild/bbs-3.19-bioc/R/site-library --timings RMassBank_3.14.0.tar.gz StartedAt: 2024-08-12 03:05:49 -0400 (Mon, 12 Aug 2024) EndedAt: 2024-08-12 03:17:13 -0400 (Mon, 12 Aug 2024) EllapsedTime: 684.7 seconds RetCode: 0 Status: OK CheckDir: RMassBank.Rcheck Warnings: 0