Package: RMassBank Version: 3.14.0 Command: /home/biocbuild/R/R-beta-2024-04-15_r86425/bin/R CMD build --keep-empty-dirs --no-resave-data RMassBank StartedAt: 2024-05-09 03:04:14 -0000 (Thu, 09 May 2024) EndedAt: 2024-05-09 03:15:08 -0000 (Thu, 09 May 2024) EllapsedTime: 653.9 seconds RetCode: 1 Status: ERROR PackageFile: None PackageFileSize: NA