Package: RGraph2js Version: 1.32.0 Command: rm -rf RGraph2js.buildbin-libdir && mkdir RGraph2js.buildbin-libdir && /Users/biocbuild/BBS/utils/build-universal.sh RGraph2js_1.32.0.tar.gz /Library/Frameworks/R.framework/Resources/bin/R RGraph2js.buildbin-libdir StartedAt: 2024-06-10 00:35:18 -0400 (Mon, 10 Jun 2024) EndedAt: 2024-06-10 00:35:25 -0400 (Mon, 10 Jun 2024) EllapsedTime: 6.7 seconds RetCode: 0 Status: OK PackageFile: RGraph2js_1.32.0.tgz PackageFileSize: 1.495 MiB