Package: REMP Version: 1.28.0 Command: /Library/Frameworks/R.framework/Resources/bin/R CMD build --keep-empty-dirs --no-resave-data REMP StartedAt: 2024-10-16 22:30:52 -0400 (Wed, 16 Oct 2024) EndedAt: 2024-10-16 22:35:32 -0400 (Wed, 16 Oct 2024) EllapsedTime: 280.1 seconds RetCode: 0 Status: OK PackageFile: REMP_1.28.0.tar.gz PackageFileSize: 190.7 KiB