Package: REDseq Version: 1.50.0 Command: rm -rf REDseq.buildbin-libdir && mkdir REDseq.buildbin-libdir && /Users/biocbuild/BBS/utils/build-universal.sh REDseq_1.50.0.tar.gz /Library/Frameworks/R.framework/Resources/bin/R REDseq.buildbin-libdir StartedAt: 2024-10-18 20:12:17 -0400 (Fri, 18 Oct 2024) EndedAt: 2024-10-18 20:13:27 -0400 (Fri, 18 Oct 2024) EllapsedTime: 70.3 seconds RetCode: 0 Status: OK PackageFile: REDseq_1.50.0.tgz PackageFileSize: 417.1 KiB